BEGIN:VCALENDAR
VERSION:2.0
PRODID:spatie/icalendar-generator
DESCRIPTION:Events from MusicWorks
X-WR-CALDESC:Events from MusicWorks
REFRESH-INTERVAL;VALUE=DURATION:PT1440M
X-PUBLISHED-TTL:PT1440M
BEGIN:VTIMEZONE
TZID:America/New_York
BEGIN:STANDARD
DTSTART:20211107T020000Z
TZOFFSETFROM:-0400
TZOFFSETTO:-0500
END:STANDARD
BEGIN:DAYLIGHT
DTSTART:20220313T020000Z
TZOFFSETFROM:-0500
TZOFFSETTO:-0400
END:DAYLIGHT
BEGIN:STANDARD
DTSTART:20221106T020000Z
TZOFFSETFROM:-0400
TZOFFSETTO:-0500
END:STANDARD
END:VTIMEZONE
BEGIN:VTIMEZONE
TZID:UTC
BEGIN:STANDARD
DTSTART:20250725T080559Z
TZOFFSETFROM:+0000
TZOFFSETTO:+0000
END:STANDARD
END:VTIMEZONE
BEGIN:VEVENT
UID:3042-180
DTSTAMP:20260421T080559Z
SUMMARY:Saturday Music Therapy Sessions - Hatboro
LOCATION:Hatboro 472 Blair Mill Road  Hatboro PA 19040
ORGANIZER;CN=Admin:MAILTO:temp_admin@musicworkswonders.org
RRULE:FREQ=WEEKLY;COUNT=52
DTSTART;TZID=America/New_York:20220723T090000
DTEND;TZID=America/New_York:20220723T133000
X-ALT-DESC;FMTTYPE=TEXT/HTML:Music Therapy sessions are scheduled during th
 is time. New clients\, please call the Havertown Office at 610-449-9669 to
  Register between 11:30 am and 3:30 pm.
CATEGORIES:Hatboro,  Office Closed
URL;VALUE=URI:https://musicworkswonders.org/calendar?mc_id=3042&#038;vcal=3
 042
END:VEVENT
END:VCALENDAR